BEGIN:VCALENDAR
VERSION:2.0
PRODID:-//Sabre//Sabre VObject 4.5.8//EN
CALSCALE:GREGORIAN
BEGIN:VEVENT
UID:sabre-vobject-d389bfc9-7125-4a99-9c5d-9179e7604c48
DTSTAMP:20260422T172110Z
SUMMARY:Asphalt seminar 2026
DESCRIPTION:Willingen\n24-26 March 2026
LOCATION:Willingen
DTSTART:20260324T120000Z
DTEND:20260326T120000Z
END:VEVENT
END:VCALENDAR
