BEGIN:VCALENDAR
VERSION:2.0
PRODID:-//Sabre//Sabre VObject 4.5.8//EN
CALSCALE:GREGORIAN
BEGIN:VEVENT
UID:sabre-vobject-a43a6b03-f605-4de9-81dd-2baa3f0756b6
DTSTAMP:20260422T155847Z
SUMMARY:Interzoo 2026
DESCRIPTION:Nürnberg\n12.-15. Mai 2026
LOCATION:Nürnberg
DTSTART:20260512T120000Z
DTEND:20260515T120000Z
END:VEVENT
END:VCALENDAR
