BEGIN:VCALENDAR
VERSION:2.0
PRODID:-//Sabre//Sabre VObject 4.5.8//EN
CALSCALE:GREGORIAN
BEGIN:VEVENT
UID:sabre-vobject-7672f6f2-08cd-4588-9b8a-ba550a562944
DTSTAMP:20260422T155847Z
SUMMARY:PLMA Amsterdam 2026
DESCRIPTION:Amsterdam\n19.-20. Mai 2026
LOCATION:Amsterdam
DTSTART:20260519T120000Z
DTEND:20260520T120000Z
END:VEVENT
END:VCALENDAR
