BEGIN:VCALENDAR
VERSION:2.0
PRODID:-//Sabre//Sabre VObject 4.5.8//EN
CALSCALE:GREGORIAN
BEGIN:VEVENT
UID:sabre-vobject-945e78de-155a-41e4-8e99-16c2c62dd22b
DTSTAMP:20260422T170946Z
SUMMARY:Deutsche Asphalttage 2026
DESCRIPTION:Berchtesgaden\n25.-27. Februar 2026
LOCATION:Berchtesgaden
DTSTART:20260225T120000Z
DTEND:20260227T120000Z
END:VEVENT
END:VCALENDAR
