BEGIN:VCALENDAR
VERSION:2.0
PRODID:-//Sabre//Sabre VObject 4.5.8//EN
CALSCALE:GREGORIAN
BEGIN:VEVENT
UID:sabre-vobject-71ad125f-08b5-41ab-a56c-02b8e7764680
DTSTAMP:20260422T155730Z
SUMMARY:Asphaltseminar 2026
DESCRIPTION:Willingen\n24.-26. März 2026
LOCATION:Willingen
DTSTART:20260324T120000Z
DTEND:20260326T120000Z
END:VEVENT
END:VCALENDAR
