BEGIN:VCALENDAR
VERSION:2.0
PRODID:-//Sabre//Sabre VObject 4.5.8//EN
CALSCALE:GREGORIAN
BEGIN:VEVENT
UID:sabre-vobject-54c0ecd2-03e6-43bf-a3e9-cee332255653
DTSTAMP:20260422T160914Z
SUMMARY:Paris Packaging Week 2026
DESCRIPTION:Paris\n05-06 February 2026
LOCATION:Paris
DTSTART:20260205T120000Z
DTEND:20260206T120000Z
END:VEVENT
END:VCALENDAR
