BEGIN:VCALENDAR
VERSION:2.0
PRODID:-//Sabre//Sabre VObject 4.5.8//EN
CALSCALE:GREGORIAN
BEGIN:VEVENT
UID:sabre-vobject-28a0664c-5c71-4c53-9944-1770b8f9a1a6
DTSTAMP:20260422T154158Z
SUMMARY:German Asphalt Days 2026
DESCRIPTION:Berchtesgaden\n25-27 February 2026
LOCATION:Berchtesgaden
DTSTART:20260225T120000Z
DTEND:20260227T120000Z
END:VEVENT
END:VCALENDAR
