BEGIN:VCALENDAR
VERSION:2.0
PRODID:-//Sabre//Sabre VObject 4.5.8//EN
CALSCALE:GREGORIAN
BEGIN:VEVENT
UID:sabre-vobject-6baa72dd-819d-420a-95d6-b76503e60231
DTSTAMP:20260422T154114Z
SUMMARY:PCI Days 2026
DESCRIPTION:Warsaw\n16-18 June 2026
LOCATION:Warsaw
DTSTART:20260616T120000Z
DTEND:20260618T120000Z
END:VEVENT
END:VCALENDAR
