BEGIN:VCALENDAR
VERSION:2.0
PRODID:-//Sabre//Sabre VObject 4.5.8//EN
CALSCALE:GREGORIAN
BEGIN:VEVENT
UID:sabre-vobject-8d8c7a61-a087-4ad4-ad34-e0decfa291ad
DTSTAMP:20260422T154114Z
SUMMARY:Biofach 2026
DESCRIPTION:Nuremberg\n10-13 February 2026
LOCATION:Nuremberg
DTSTART:20260210T120000Z
DTEND:20260213T120000Z
END:VEVENT
END:VCALENDAR
