BEGIN:VCALENDAR
VERSION:2.0
PRODID:-//Sabre//Sabre VObject 4.5.8//EN
CALSCALE:GREGORIAN
BEGIN:VEVENT
UID:sabre-vobject-b6e1c598-9c6a-48bf-8995-f82f93d76237
DTSTAMP:20260422T170944Z
SUMMARY:Cosmetic Business 2026
DESCRIPTION:Munich\n10-11 June 2026
LOCATION:Munich
DTSTART:20260610T120000Z
DTEND:20260611T120000Z
END:VEVENT
END:VCALENDAR
